BEGIN:VCALENDAR
VERSION:2.0
PRODID:-//Water Tower Fine Wines - ECPv6.15.20//NONSGML v1.0//EN
CALSCALE:GREGORIAN
METHOD:PUBLISH
X-ORIGINAL-URL:https://www.watertowerfinewines.com
X-WR-CALDESC:Events for Water Tower Fine Wines
REFRESH-INTERVAL;VALUE=DURATION:PT1H
X-Robots-Tag:noindex
X-PUBLISHED-TTL:PT1H
BEGIN:VTIMEZONE
TZID:America/Kentucky/Louisville
BEGIN:DAYLIGHT
TZOFFSETFROM:-0500
TZOFFSETTO:-0400
TZNAME:EDT
DTSTART:20180311T070000
END:DAYLIGHT
BEGIN:STANDARD
TZOFFSETFROM:-0400
TZOFFSETTO:-0500
TZNAME:EST
DTSTART:20181104T060000
END:STANDARD
BEGIN:DAYLIGHT
TZOFFSETFROM:-0500
TZOFFSETTO:-0400
TZNAME:EDT
DTSTART:20190310T070000
END:DAYLIGHT
BEGIN:STANDARD
TZOFFSETFROM:-0400
TZOFFSETTO:-0500
TZNAME:EST
DTSTART:20191103T060000
END:STANDARD
BEGIN:DAYLIGHT
TZOFFSETFROM:-0500
TZOFFSETTO:-0400
TZNAME:EDT
DTSTART:20200308T070000
END:DAYLIGHT
BEGIN:STANDARD
TZOFFSETFROM:-0400
TZOFFSETTO:-0500
TZNAME:EST
DTSTART:20201101T060000
END:STANDARD
END:VTIMEZONE
BEGIN:VTIMEZONE
TZID:UTC
BEGIN:STANDARD
TZOFFSETFROM:+0000
TZOFFSETTO:+0000
TZNAME:UTC
DTSTART:20180101T000000
END:STANDARD
END:VTIMEZONE
BEGIN:VEVENT
DTSTART;TZID=America/Kentucky/Louisville:20191227T173000
DTEND;TZID=America/Kentucky/Louisville:20191227T203000
DTSTAMP:20260424T160718
CREATED:20191205T060804Z
LAST-MODIFIED:20200104T235042Z
UID:1629-1577467800-1577478600@www.watertowerfinewines.com
SUMMARY:One More Excuse to Celebrate; New Years Eve
DESCRIPTION:I know we have been hammering sparkling wines\, but really they are great this time of year! One last time\, we may try something new with different bottles being opened throughout the night and each attendee gets six tastes\, but maybe not the same six. Bubbles are Chef Jan’s favorite type of wine to compliment\, so there is sure to be a great spread! Join us as we end the year out.
URL:https://www.watertowerfinewines.com/event/one-more-excuse-to-celebrate-new-years-eve/
LOCATION:Water Tower Fine Wines\, 6136 Campus Ln\, Cincinnati\, OH\, 45230\, United States
ATTACH;FMTTYPE=image/jpeg:https://www.watertowerfinewines.com/wp-content/uploads/2019/10/sparkling-wtfw.jpg
ORGANIZER;CN="David and Jan Lazarus":MAILTO:wtfinewines@gmail.com
END:VEVENT
BEGIN:VEVENT
DTSTART;TZID=America/Kentucky/Louisville:20191221T120000
DTEND;TZID=America/Kentucky/Louisville:20191221T180000
DTSTAMP:20260424T160718
CREATED:20191205T054238Z
LAST-MODIFIED:20191205T054258Z
UID:1615-1576929600-1576951200@www.watertowerfinewines.com
SUMMARY:Saturday Tasting 12-21-19
DESCRIPTION:We offer special educational tasting Saturdays. Taste at least six wines and learn about such things as Acidity in wine and how that effects your enjoyment of certain wines. Feel free to join us with your questions about wine and what makes it tick.\n \nTasting runs from 12:00pm – 6:00pm. Happy hour on our WineStation machines is 4:00-7:00pm
URL:https://www.watertowerfinewines.com/event/saturday-tasting-12-21-19/
LOCATION:Water Tower Fine Wines\, 6136 Campus Ln\, Cincinnati\, OH\, 45230\, United States
ATTACH;FMTTYPE=image/jpeg:https://www.watertowerfinewines.com/wp-content/uploads/2019/12/Saturday-Tasting-12-21.jpg
ORGANIZER;CN="David and Jan Lazarus":MAILTO:wtfinewines@gmail.com
END:VEVENT
BEGIN:VEVENT
DTSTART;TZID=America/Kentucky/Louisville:20191220T173000
DTEND;TZID=America/Kentucky/Louisville:20191220T203000
DTSTAMP:20260424T160718
CREATED:20191205T055727Z
LAST-MODIFIED:20191205T055727Z
UID:1626-1576863000-1576873800@www.watertowerfinewines.com
SUMMARY:End Prohibition Part 2; Big Reds
DESCRIPTION:This week we will continue to celebrate the end of Prohibition and taste four big reds (again stepping up the quality & price point). We will taste wines that have been overlooked over the last several years\, but deserve to be tasted. Chef Jan will have another of her wonderful spreads to compliment the wines. So make plans to join us as we approach Christmas and the many other special celebrations of this season.
URL:https://www.watertowerfinewines.com/event/end-prohibition-part-2-big-reds/
LOCATION:Water Tower Fine Wines\, 6136 Campus Ln\, Cincinnati\, OH\, 45230\, United States
ATTACH;FMTTYPE=image/jpeg:https://www.watertowerfinewines.com/wp-content/uploads/2019/12/Reds-Friday-Tasting.jpg
ORGANIZER;CN="David and Jan Lazarus":MAILTO:wtfinewines@gmail.com
END:VEVENT
BEGIN:VEVENT
DTSTART;TZID=America/Kentucky/Louisville:20191214T120000
DTEND;TZID=America/Kentucky/Louisville:20191214T180000
DTSTAMP:20260424T160718
CREATED:20191205T053838Z
LAST-MODIFIED:20191205T053931Z
UID:1610-1576324800-1576346400@www.watertowerfinewines.com
SUMMARY:Saturday Tasting 12-14-19
DESCRIPTION:We offer special educational tasting Saturdays. Taste at least six wines and learn about such things as Acidity in wine and how that effects your enjoyment of certain wines. Feel free to join us with your questions about wine and what makes it tick.\n \nTasting runs from 12:00pm – 6:00pm. Happy hour on our WineStation machines is 4:00-7:00pm
URL:https://www.watertowerfinewines.com/event/saturday-tasting-12-14-19/
LOCATION:Water Tower Fine Wines\, 6136 Campus Ln\, Cincinnati\, OH\, 45230\, United States
ATTACH;FMTTYPE=image/jpeg:https://www.watertowerfinewines.com/wp-content/uploads/2019/12/Saturday-Tasting-wtfw-14.jpg
ORGANIZER;CN="David and Jan Lazarus":MAILTO:wtfinewines@gmail.com
END:VEVENT
BEGIN:VEVENT
DTSTART;TZID=America/Kentucky/Louisville:20191213T173000
DTEND;TZID=America/Kentucky/Louisville:20191213T203000
DTSTAMP:20260424T160718
CREATED:20191205T055358Z
LAST-MODIFIED:20191205T055358Z
UID:1623-1576258200-1576269000@www.watertowerfinewines.com
SUMMARY:Let's Celebrate; Prohibition Repeal Day
DESCRIPTION:Last Friday was the anniversary of the day that Prohibition was repealed\, so we figured why not celebrate? While we normally pour six wines plus the extra pour\, this week we will up the quality & price point of the wines we pour and pour four wines plus a special extra pour. Maybe Chef Jan will even have a menu that harkens back to the 1930s. Join us as we celebrate the reintroduction appreciation of a good glass of wine!
URL:https://www.watertowerfinewines.com/event/lets-celebrate-prohibition-repeal/
LOCATION:Water Tower Fine Wines\, 6136 Campus Ln\, Cincinnati\, OH\, 45230\, United States
ATTACH;FMTTYPE=image/jpeg:https://www.watertowerfinewines.com/wp-content/uploads/2019/12/Friday-tasting-13.jpg
ORGANIZER;CN="David and Jan Lazarus":MAILTO:wtfinewines@gmail.com
END:VEVENT
BEGIN:VEVENT
DTSTART;TZID=America/Kentucky/Louisville:20191207T120000
DTEND;TZID=America/Kentucky/Louisville:20191207T160000
DTSTAMP:20260424T160718
CREATED:20191205T053420Z
LAST-MODIFIED:20191205T053502Z
UID:1605-1575720000-1575734400@www.watertowerfinewines.com
SUMMARY:Saturday Tasting 12-7-19
DESCRIPTION:We offer special educational tasting Saturdays. Taste at least six wines and learn about such things as Acidity in wine and how that effects your enjoyment of certain wines. Feel free to join us with your questions about wine and what makes it tick.\n \nTasting runs from 12:00pm – 4:00pm. Happy hour on our WineStation machines is 4:00-7:00pm
URL:https://www.watertowerfinewines.com/event/saturday-tasting/
LOCATION:Water Tower Fine Wines\, 6136 Campus Ln\, Cincinnati\, OH\, 45230\, United States
ATTACH;FMTTYPE=image/jpeg:https://www.watertowerfinewines.com/wp-content/uploads/2019/12/Saturday-Tasting-at-WTFW.jpg
ORGANIZER;CN="David and Jan Lazarus":MAILTO:wtfinewines@gmail.com
END:VEVENT
BEGIN:VEVENT
DTSTART;TZID=America/Kentucky/Louisville:20191206T173000
DTEND;TZID=America/Kentucky/Louisville:20191206T203000
DTSTAMP:20260424T160718
CREATED:20191205T051100Z
LAST-MODIFIED:20191205T052749Z
UID:1597-1575653400-1575664200@www.watertowerfinewines.com
SUMMARY:One More Time; Rosé
DESCRIPTION:Once more\, a tasting featuring dry rose’ wines. These are wonderfully food friendly wines and can be a perfect compromise for those who want to please both the red and the white wine drinkers on your guest list. These wines will compliment any holiday spread. Join us as we gear up for the holiday season.
URL:https://www.watertowerfinewines.com/event/one-more-time-rose/
LOCATION:Water Tower Fine Wines\, 6136 Campus Ln\, Cincinnati\, OH\, 45230\, United States
ATTACH;FMTTYPE=image/jpeg:https://www.watertowerfinewines.com/wp-content/uploads/2019/12/Rose-wine-wtfw3.jpg
ORGANIZER;CN="David and Jan Lazarus":MAILTO:wtfinewines@gmail.com
END:VEVENT
BEGIN:VEVENT
DTSTART;TZID=America/Kentucky/Louisville:20191130T150000
DTEND;TZID=America/Kentucky/Louisville:20191130T203000
DTSTAMP:20260424T160718
CREATED:20191030T020944Z
LAST-MODIFIED:20191030T024934Z
UID:1451-1575126000-1575145800@www.watertowerfinewines.com
SUMMARY:Mount Washington Holiday Walk
DESCRIPTION:Starting at 3:00 today we will have live music on a stage in the street across from out parking lot. Campus Lane will be closed from 3 until 7:30 for entertainment on that stage. Please plan to park around the corner on Oxford Street. We will be offering several wines by the glass and our wine station will be available to create your own flight or pour your own glass. Chef Jan will have special grilled cheese paninis available to purchase. The store will also be open for sales if you need something great to enjoy at home. We will be open until the tower lights are switched on!
URL:https://www.watertowerfinewines.com/event/mount-washington-holiday-walk/
LOCATION:Water Tower Fine Wines\, 6136 Campus Ln\, Cincinnati\, OH\, 45230\, United States
ATTACH;FMTTYPE=image/jpeg:https://www.watertowerfinewines.com/wp-content/uploads/2019/10/WTFW-Outside-with-Tower.jpg
ORGANIZER;CN="David and Jan Lazarus":MAILTO:wtfinewines@gmail.com
END:VEVENT
BEGIN:VEVENT
DTSTART;TZID=America/Kentucky/Louisville:20191129T173000
DTEND;TZID=America/Kentucky/Louisville:20191129T203000
DTSTAMP:20260424T160718
CREATED:20191030T020644Z
LAST-MODIFIED:20191030T023818Z
UID:1450-1575048600-1575059400@www.watertowerfinewines.com
SUMMARY:Value Wines That Over Perform
DESCRIPTION:As we honor the most important day for commerce in this country (Black Friday)\, we will try to ease the pain with six wines that are great values and over deliver for the money. This will be a great opportunity to find a wine for your holiday entertaining that won’t break the bank. Join us for the traditional kick off to the holiday season. Chef Jan will serve up another of her great buffets.
URL:https://www.watertowerfinewines.com/event/value-wines-that-over-perform/
LOCATION:Water Tower Fine Wines\, 6136 Campus Ln\, Cincinnati\, OH\, 45230\, United States
ATTACH;FMTTYPE=image/jpeg:https://www.watertowerfinewines.com/wp-content/uploads/2019/10/tasting-wtfw.jpg
ORGANIZER;CN="David and Jan Lazarus":MAILTO:wtfinewines@gmail.com
END:VEVENT
BEGIN:VEVENT
DTSTART;TZID=America/Kentucky/Louisville:20191122T173000
DTEND;TZID=America/Kentucky/Louisville:20191122T203000
DTSTAMP:20260424T160718
CREATED:20191030T020319Z
LAST-MODIFIED:20191030T024722Z
UID:1449-1574443800-1574454600@www.watertowerfinewines.com
SUMMARY:Bubbles\, to add some Sparkle to Your Holiday
DESCRIPTION:We think sparkling wine is good anytime\, but many of you prefer it only around the holidays\, so we figure that with Thanksgiving barely a week away\, it time to pop some bubbles. We will taste six of our favorite sparkling wines tonight and welcome the holiday season. Chef Jan will certainly shine this week since her favorite wine has bubbles in it.
URL:https://www.watertowerfinewines.com/event/bubbles-to-add-some-sparkle-to-your-holiday/
LOCATION:Water Tower Fine Wines\, 6136 Campus Ln\, Cincinnati\, OH\, 45230\, United States
ATTACH;FMTTYPE=image/jpeg:https://www.watertowerfinewines.com/wp-content/uploads/2019/10/sparkling-wtfw.jpg
ORGANIZER;CN="David and Jan Lazarus":MAILTO:wtfinewines@gmail.com
END:VEVENT
BEGIN:VEVENT
DTSTART;TZID=America/Kentucky/Louisville:20191115T173000
DTEND;TZID=America/Kentucky/Louisville:20191115T203000
DTSTAMP:20260424T160718
CREATED:20191030T020512Z
LAST-MODIFIED:20191030T024901Z
UID:1448-1573839000-1573849800@www.watertowerfinewines.com
SUMMARY:Favorites 2019; White Wine
DESCRIPTION:This week we will check our records and see what the most popular white wines (that are still available) and offer them to taste. See for yourself whether they are to your taste. If not\, you know we have a few more wines to choose from. Chef Jan will serve up another of her great spreads of appetizers.
URL:https://www.watertowerfinewines.com/event/favorites-2019-white-wine/
LOCATION:Water Tower Fine Wines\, 6136 Campus Ln\, Cincinnati\, OH\, 45230\, United States
ATTACH;FMTTYPE=image/jpeg:https://www.watertowerfinewines.com/wp-content/uploads/2019/10/whites-wtfw.jpg
ORGANIZER;CN="David and Jan Lazarus":MAILTO:wtfinewines@gmail.com
END:VEVENT
BEGIN:VEVENT
DTSTART;TZID=America/Kentucky/Louisville:20191108T173000
DTEND;TZID=America/Kentucky/Louisville:20191108T203000
DTSTAMP:20260424T160718
CREATED:20191030T020408Z
LAST-MODIFIED:20191105T232100Z
UID:1447-1573234200-1573245000@www.watertowerfinewines.com
SUMMARY:Favorites 2019: Red Wine
DESCRIPTION:This week’s tasting will feature six bottles of wine that are great values for your holiday entertainment; there will be something for everyone. Join us for this great opportunity to stock up. Chef Jan will have another of her wonderful spreads to compliment the wines. \n  \nWines: \nEarly Bird Sparkler: Casteller Brut Cava Spain\n\n\n\nVilla Maria Pinot Noir Noir Marlborough New Zealand 2016 \nPlaneta La Segreta Sicilia Italy 2013 \nMetacognition Mendocino California 2014 \nSvetoni Leo Rosso di Toscana Italy 2016 \nRocca delle Macie Chianti Classico Riserva di Fizzano Italy 2009 \nColumbia Crest Walter Clore Columbia Valley Washington 2012 \n\n\n\nExtra Pour: Marco Cecchini Refosco dal Peduncolo Rosso Fruilli Colli Oriental Italy 2011
URL:https://www.watertowerfinewines.com/event/favorites-2019-red-wine/
LOCATION:Water Tower Fine Wines\, 6136 Campus Ln\, Cincinnati\, OH\, 45230\, United States
ATTACH;FMTTYPE=image/png:https://www.watertowerfinewines.com/wp-content/uploads/2019/10/nov8tasting.png
ORGANIZER;CN="David and Jan Lazarus":MAILTO:wtfinewines@gmail.com
END:VEVENT
BEGIN:VEVENT
DTSTART;TZID=America/Kentucky/Louisville:20191104T180000
DTEND;TZID=America/Kentucky/Louisville:20191104T203000
DTSTAMP:20260424T160718
CREATED:20191025T222557Z
LAST-MODIFIED:20191025T223241Z
UID:1421-1572890400-1572899400@www.watertowerfinewines.com
SUMMARY:Champagne Tasting
DESCRIPTION:Champagne Tasting featuring Chateau de Boursault with Alex Frighian\nWe will be tasting these three champagnes with the owner on Monday November 4th. It will be $15 per person and will include snacks from Chef Jan. Taste with owner Alex Frighian! Reservations are appreciated. \nWines; \nBlanc de Noirs\,\nBrut Prestige\nBrut Tradition \nLet us know if you are interested in attending. \nThese are amazing Champagnes from the original property of Madame Clicquot. This is a true gem because the Chateau de Boursault is Estate bottled and a “clos”.. all of the grapes are grown on their Estate with a stone wall surrounding it and had no influence from anyone else’s vineyards\, etc… \n 
URL:https://www.watertowerfinewines.com/event/champagne-nov4th/
LOCATION:Water Tower Fine Wines\, 6136 Campus Ln\, Cincinnati\, OH\, 45230\, United States
ATTACH;FMTTYPE=image/jpeg:https://www.watertowerfinewines.com/wp-content/uploads/2019/10/Nov4-wtfw-tasting.jpg
ORGANIZER;CN="David and Jan Lazarus":MAILTO:wtfinewines@gmail.com
END:VEVENT
BEGIN:VEVENT
DTSTART;TZID=America/Kentucky/Louisville:20191101T173000
DTEND;TZID=America/Kentucky/Louisville:20191101T203000
DTSTAMP:20260424T160718
CREATED:20191030T015333Z
LAST-MODIFIED:20191030T015747Z
UID:1444-1572629400-1572640200@www.watertowerfinewines.com
SUMMARY:Pinot Noir; Great Compliment to Your Holiday Table
DESCRIPTION:This week we will taste Pinot Noir\, one of our more popular tastings. This is a wine that compliments the varied dishes found on a Thanksgiving table\, so hopefully you will find something to enjoy with your feast. Chef Jan will offer a holiday inspired selection of hearty appetizers to compliment the wines. Join us as we start the holiday madness!
URL:https://www.watertowerfinewines.com/event/pinot-noir-great-compliment-to-your-holiday-table/
LOCATION:Water Tower Fine Wines\, 6136 Campus Ln\, Cincinnati\, OH\, 45230\, United States
ATTACH;FMTTYPE=image/jpeg:https://www.watertowerfinewines.com/wp-content/uploads/2019/10/Nov1tasting.jpg
ORGANIZER;CN="David and Jan Lazarus":MAILTO:wtfinewines@gmail.com
END:VEVENT
BEGIN:VEVENT
DTSTART;TZID=UTC:20191027T150000
DTEND;TZID=UTC:20191027T180000
DTSTAMP:20260424T160718
CREATED:20160614T165219Z
LAST-MODIFIED:20191016T195913Z
UID:1033-1572188400-1572199200@www.watertowerfinewines.com
SUMMARY:Sunday Sampler
DESCRIPTION:There will be four wines from Argentina\, three from Spain and one from Chile. Chef Jan will serve up another of her fantastic dinner by the bite. \nWines: El Puntido Gran Reserve Rioja 2005\nTorre Muga 2014\, Prado Enea Gran Reserva 2010\nJ. Alberto Noemia Malbec Rio Negro Valley Argentina 2009\nMendel Malbec Finca Remota Uco Valley Argentina 2007\nHenry Legarde Gran Guarda #1 Mendoza Argentina 2009\nCuvelier Los Andes “EL” Uco Valley Argentina 2012\nConca y Toro Camin de Peumo Carmenere Chile 2005 \nReservations by phone: 513-231-9463
URL:https://www.watertowerfinewines.com/event/sundy-sampler-10-27/
LOCATION:Water Tower Fine Wines\, 6136 Campus Ln\, Cincinnati\, OH\, 45230\, United States
ATTACH;FMTTYPE=image/jpeg:https://www.watertowerfinewines.com/wp-content/uploads/2016/06/Sunday-Sampler-Oct-27-2019.jpg
ORGANIZER;CN="David and Jan Lazarus":MAILTO:wtfinewines@gmail.com
END:VEVENT
BEGIN:VEVENT
DTSTART;TZID=UTC:20191026T120000
DTEND;TZID=UTC:20191026T160000
DTSTAMP:20260424T160718
CREATED:20160614T165219Z
LAST-MODIFIED:20191016T195829Z
UID:1034-1572091200-1572105600@www.watertowerfinewines.com
SUMMARY:Pizza Buffet & Tasting
DESCRIPTION:We will offer another Chef Jan’s Neapolitan Sour Dough pizza buffets along with a casual wine tasting. Wines to be announced.
URL:https://www.watertowerfinewines.com/event/pizza-buffet-tasting/
LOCATION:Water Tower Fine Wines\, 6136 Campus Ln\, Cincinnati\, OH\, 45230\, United States
ATTACH;FMTTYPE=image/jpeg:https://www.watertowerfinewines.com/wp-content/uploads/2016/06/wtfw-pizza-sampler.jpg
ORGANIZER;CN="David and Jan Lazarus":MAILTO:wtfinewines@gmail.com
END:VEVENT
BEGIN:VEVENT
DTSTART;TZID=UTC:20191025T173000
DTEND;TZID=UTC:20191025T203000
DTSTAMP:20260424T160718
CREATED:20160614T165219Z
LAST-MODIFIED:20191018T224643Z
UID:1035-1572024600-1572035400@www.watertowerfinewines.com
SUMMARY:A Survey Soave
DESCRIPTION:As we close out October we will sample six Soave wines. This is one of those misunderstood wines that were thought of as cheap white wines in gallon jugs. Soave is made with the Garganega grape. These wines are crisp and clean and very food friendly. Thanksgiving is around the corner and Soave would be a great compliment to the holiday table. \nChef Jan will serve up an eclectic selection of hearty appetizers to compliment these great wines.
URL:https://www.watertowerfinewines.com/event/a-survey-soave/
LOCATION:Water Tower Fine Wines\, 6136 Campus Ln\, Cincinnati\, OH\, 45230\, United States
ATTACH;FMTTYPE=image/jpeg:https://www.watertowerfinewines.com/wp-content/uploads/2016/06/wtfw-wines-shelf.jpg
ORGANIZER;CN="David and Jan Lazarus":MAILTO:wtfinewines@gmail.com
END:VEVENT
BEGIN:VEVENT
DTSTART;TZID=UTC:20191018T173000
DTEND;TZID=UTC:20191018T203000
DTSTAMP:20260424T160718
CREATED:20160614T165219Z
LAST-MODIFIED:20191016T195707Z
UID:1031-1571419800-1571430600@www.watertowerfinewines.com
SUMMARY:Off Beat Italian
DESCRIPTION:We will taste six wines from Italy\, two each from Tuscany\, Piedmont and Veneto. These wine will mostly be blends and represent good values from each region. This tasting will allow those attending to sample value wines from otherwise relatively pricey regions and imagine what the more expensive cousins might be like. \nChef Jan will serve up a tasting sampling of Italian inspired goodies to compliment the wines. Join us for a great tour.
URL:https://www.watertowerfinewines.com/event/off-beat-italian/
LOCATION:Water Tower Fine Wines\, 6136 Campus Ln\, Cincinnati\, OH\, 45230\, United States
ATTACH;FMTTYPE=image/jpeg:https://www.watertowerfinewines.com/wp-content/uploads/2016/06/Off-Beat-Itailan.jpg
ORGANIZER;CN="David and Jan Lazarus":MAILTO:wtfinewines@gmail.com
END:VEVENT
END:VCALENDAR