BEGIN:VCALENDAR
VERSION:2.0
PRODID:-//Water Tower Fine Wines - ECPv6.15.20//NONSGML v1.0//EN
CALSCALE:GREGORIAN
METHOD:PUBLISH
X-ORIGINAL-URL:https://www.watertowerfinewines.com
X-WR-CALDESC:Events for Water Tower Fine Wines
REFRESH-INTERVAL;VALUE=DURATION:PT1H
X-Robots-Tag:noindex
X-PUBLISHED-TTL:PT1H
BEGIN:VTIMEZONE
TZID:America/Kentucky/Louisville
BEGIN:DAYLIGHT
TZOFFSETFROM:-0500
TZOFFSETTO:-0400
TZNAME:EDT
DTSTART:20190310T070000
END:DAYLIGHT
BEGIN:STANDARD
TZOFFSETFROM:-0400
TZOFFSETTO:-0500
TZNAME:EST
DTSTART:20191103T060000
END:STANDARD
BEGIN:DAYLIGHT
TZOFFSETFROM:-0500
TZOFFSETTO:-0400
TZNAME:EDT
DTSTART:20200308T070000
END:DAYLIGHT
BEGIN:STANDARD
TZOFFSETFROM:-0400
TZOFFSETTO:-0500
TZNAME:EST
DTSTART:20201101T060000
END:STANDARD
BEGIN:DAYLIGHT
TZOFFSETFROM:-0500
TZOFFSETTO:-0400
TZNAME:EDT
DTSTART:20210314T070000
END:DAYLIGHT
BEGIN:STANDARD
TZOFFSETFROM:-0400
TZOFFSETTO:-0500
TZNAME:EST
DTSTART:20211107T060000
END:STANDARD
BEGIN:DAYLIGHT
TZOFFSETFROM:-0500
TZOFFSETTO:-0400
TZNAME:EDT
DTSTART:20220313T070000
END:DAYLIGHT
BEGIN:STANDARD
TZOFFSETFROM:-0400
TZOFFSETTO:-0500
TZNAME:EST
DTSTART:20221106T060000
END:STANDARD
END:VTIMEZONE
BEGIN:VEVENT
DTSTART;TZID=America/Kentucky/Louisville:20211211T150000
DTEND;TZID=America/Kentucky/Louisville:20211211T170000
DTSTAMP:20260424T110229
CREATED:20211208T133553Z
LAST-MODIFIED:20211214T122436Z
UID:3185-1639234800-1639242000@www.watertowerfinewines.com
SUMMARY:Saturday Wine Tasting 11/12/2021 - Meet the Winemaker
DESCRIPTION:
URL:https://www.watertowerfinewines.com/event/saturday-wine-tasting-11-12-2021-meet-the-winemaker/
LOCATION:Water Tower Fine Wines\, 6136 Campus Ln\, Cincinnati\, OH\, 45230\, United States
END:VEVENT
BEGIN:VEVENT
DTSTART;TZID=America/Kentucky/Louisville:20200627T183000
DTEND;TZID=America/Kentucky/Louisville:20200627T200000
DTSTAMP:20260424T110229
CREATED:20200519T175612Z
LAST-MODIFIED:20200519T175612Z
UID:2742-1593282600-1593288000@www.watertowerfinewines.com
SUMMARY:Saturday Virtual Tastings
DESCRIPTION:Each week we will host a virtual tasting on Zoom\, where participants can taste and discuss three wines with a common theme for approximately an hour and a half starting at 6:30. Reservations are required and wines will be available to purchase by the bottle or in sealed 5 ounce to go containers on Friday afternoon or Saturday. Check Facebook or call / email the store for each week’s specifics.
URL:https://www.watertowerfinewines.com/event/saturday-virtual-tastings-6/
LOCATION:Water Tower Fine Wines\, 6136 Campus Ln\, Cincinnati\, OH\, 45230\, United States
ORGANIZER;CN="David and Jan Lazarus":MAILTO:wtfinewines@gmail.com
END:VEVENT
BEGIN:VEVENT
DTSTART;TZID=America/Kentucky/Louisville:20200620T183000
DTEND;TZID=America/Kentucky/Louisville:20200620T200000
DTSTAMP:20260424T110229
CREATED:20200519T175503Z
LAST-MODIFIED:20200519T175503Z
UID:2740-1592677800-1592683200@www.watertowerfinewines.com
SUMMARY:Saturday Virtual Tastings
DESCRIPTION:Each week we will host a virtual tasting on Zoom\, where participants can taste and discuss three wines with a common theme for approximately an hour and a half starting at 6:30. Reservations are required and wines will be available to purchase by the bottle or in sealed 5 ounce to go containers on Friday afternoon or Saturday. Check Facebook or call / email the store for each week’s specifics.
URL:https://www.watertowerfinewines.com/event/saturday-virtual-tastings-5/
LOCATION:Water Tower Fine Wines\, 6136 Campus Ln\, Cincinnati\, OH\, 45230\, United States
ORGANIZER;CN="David and Jan Lazarus":MAILTO:wtfinewines@gmail.com
END:VEVENT
BEGIN:VEVENT
DTSTART;TZID=America/Kentucky/Louisville:20200613T183000
DTEND;TZID=America/Kentucky/Louisville:20200613T200000
DTSTAMP:20260424T110229
CREATED:20200519T175345Z
LAST-MODIFIED:20200519T175345Z
UID:2737-1592073000-1592078400@www.watertowerfinewines.com
SUMMARY:Saturday Virtual Tastings
DESCRIPTION:Each week we will host a virtual tasting on Zoom\, where participants can taste and discuss three wines with a common theme for approximately an hour and a half starting at 6:30. Reservations are required and wines will be available to purchase by the bottle or in sealed 5 ounce to go containers on Friday afternoon or Saturday. Check Facebook or call / email the store for each week’s specifics.
URL:https://www.watertowerfinewines.com/event/saturday-virtual-tastings-4/
LOCATION:Water Tower Fine Wines\, 6136 Campus Ln\, Cincinnati\, OH\, 45230\, United States
ORGANIZER;CN="David and Jan Lazarus":MAILTO:wtfinewines@gmail.com
END:VEVENT
BEGIN:VEVENT
DTSTART;TZID=America/Kentucky/Louisville:20200606T183000
DTEND;TZID=America/Kentucky/Louisville:20200606T200000
DTSTAMP:20260424T110229
CREATED:20200519T174406Z
LAST-MODIFIED:20200519T175234Z
UID:2733-1591468200-1591473600@www.watertowerfinewines.com
SUMMARY:Saturday Virtual Tastings
DESCRIPTION:Each week we will host a virtual tasting on Zoom\, where participants can taste and discuss three wines with a common theme for approximately an hour and a half starting at 6:30. Reservations are required and wines will be available to purchase by the bottle or in sealed 5 ounce to go containers on Friday afternoon or Saturday. Check Facebook or call / email the store for each week’s specifics.
URL:https://www.watertowerfinewines.com/event/saturday-virtual-tastings-3/
LOCATION:Water Tower Fine Wines\, 6136 Campus Ln\, Cincinnati\, OH\, 45230\, United States
ORGANIZER;CN="David and Jan Lazarus":MAILTO:wtfinewines@gmail.com
END:VEVENT
BEGIN:VEVENT
DTSTART;TZID=America/Kentucky/Louisville:20200530T183000
DTEND;TZID=America/Kentucky/Louisville:20200530T200000
DTSTAMP:20260424T110229
CREATED:20200519T174232Z
LAST-MODIFIED:20200519T174232Z
UID:2731-1590863400-1590868800@www.watertowerfinewines.com
SUMMARY:Saturday Virtual Tastings
DESCRIPTION:Each week we will host a virtual tasting on Zoom\, where participants can taste and discuss three wines with a common theme for approximately an hour and a half starting at 6:30. Reservations are required and wines will be available to purchase by the bottle or in sealed 5 ounce to go containers on Friday afternoon or Saturday. Check Facebook or call / email the store for each week’s specifics
URL:https://www.watertowerfinewines.com/event/saturday-virtual-tastings-2/
LOCATION:Water Tower Fine Wines\, 6136 Campus Ln\, Cincinnati\, OH\, 45230\, United States
ORGANIZER;CN="David and Jan Lazarus":MAILTO:wtfinewines@gmail.com
END:VEVENT
BEGIN:VEVENT
DTSTART;TZID=America/Kentucky/Louisville:20200523T183000
DTEND;TZID=America/Kentucky/Louisville:20200523T200000
DTSTAMP:20260424T110229
CREATED:20200519T173703Z
LAST-MODIFIED:20200519T175200Z
UID:2729-1590258600-1590264000@www.watertowerfinewines.com
SUMMARY:Saturday Virtual Tastings
DESCRIPTION:Taste with winemaker and owner of Burnet Ridge!  Enjoy a bottle from your cellar or purchase something from Water Tower Fine Wines; we have a full selection\, including our private label. Chip will be available to discuss vintages\, aspects of winemaking and to answer your questions.
URL:https://www.watertowerfinewines.com/event/saturday-virtual-tastings/
LOCATION:Water Tower Fine Wines\, 6136 Campus Ln\, Cincinnati\, OH\, 45230\, United States
ORGANIZER;CN="David and Jan Lazarus":MAILTO:wtfinewines@gmail.com
END:VEVENT
BEGIN:VEVENT
DTSTART;TZID=America/Kentucky/Louisville:20200327T173000
DTEND;TZID=America/Kentucky/Louisville:20200327T203000
DTSTAMP:20260424T110229
CREATED:20200302T220241Z
LAST-MODIFIED:20200315T230453Z
UID:1946-1585330200-1585341000@www.watertowerfinewines.com
SUMMARY:Barbera d' asti and Barbera d' Alba
DESCRIPTION:We are open regular business hours. Due to state mandated closings\, our wine tastings have been postponed. \n\n  \nThis week we will travel to northwestern Italy and the region of Piedmont. There we will sample a selection of six wines including Barbera’s from Asti and Alba. These are great food friendly wines with a surprising amount of sophistication. These wine have supple fruit and vibrant acidity. Chef Jan will be in the kitchen this week wit some special goodies. Make plans to join us and check out these great wines!
URL:https://www.watertowerfinewines.com/event/barbera-d-asti-and-barbera-d-alba/
LOCATION:Water Tower Fine Wines\, 6136 Campus Ln\, Cincinnati\, OH\, 45230\, United States
ORGANIZER;CN="David and Jan Lazarus":MAILTO:wtfinewines@gmail.com
END:VEVENT
BEGIN:VEVENT
DTSTART;TZID=America/Kentucky/Louisville:20200320T173000
DTEND;TZID=America/Kentucky/Louisville:20200320T203000
DTSTAMP:20260424T110229
CREATED:20200302T220100Z
LAST-MODIFIED:20200315T230409Z
UID:1944-1584725400-1584736200@www.watertowerfinewines.com
SUMMARY:White Wines with Age
DESCRIPTION:We are open regular business hours. Due to state mandated closings\, our wine tastings have been postponed. \n\nThis week we will sample six white wines with age on them. Our goal is to sample wines that might not be expected to age quite as gracefully as other might. his will be your opportunity to judge for yourself and see what happens to the fruit as the wine ages and how the acidity sometimes builds. Chef Jan will have a selection of hearty appetizers to compliment the wines.
URL:https://www.watertowerfinewines.com/event/white-wines-with-age/
LOCATION:Water Tower Fine Wines\, 6136 Campus Ln\, Cincinnati\, OH\, 45230\, United States
ORGANIZER;CN="David and Jan Lazarus":MAILTO:wtfinewines@gmail.com
END:VEVENT
BEGIN:VEVENT
DTSTART;TZID=America/Kentucky/Louisville:20200313T173000
DTEND;TZID=America/Kentucky/Louisville:20200313T203000
DTSTAMP:20260424T110229
CREATED:20200302T215941Z
LAST-MODIFIED:20200302T215941Z
UID:1942-1584120600-1584131400@www.watertowerfinewines.com
SUMMARY:Red Wines with Age
DESCRIPTION:This week we will sample six reds with age on them. Our goal is to sample wines that might not be expected to age quite as gracefully as other might. his will be your opportunity to judge for yourself and see what happens to the fruit as the wine ages and how the acidity sometimes builds. Chef Jan will have a selection of hearty appetizers to compliment the wines.
URL:https://www.watertowerfinewines.com/event/red-wines-with-age/
LOCATION:Water Tower Fine Wines\, 6136 Campus Ln\, Cincinnati\, OH\, 45230\, United States
ORGANIZER;CN="David and Jan Lazarus":MAILTO:wtfinewines@gmail.com
END:VEVENT
BEGIN:VEVENT
DTSTART;TZID=America/Kentucky/Louisville:20200306T173000
DTEND;TZID=America/Kentucky/Louisville:20200306T203000
DTSTAMP:20260424T110229
CREATED:20200302T214614Z
LAST-MODIFIED:20200302T214614Z
UID:1939-1583515800-1583526600@www.watertowerfinewines.com
SUMMARY:Lamadrid Wines
DESCRIPTION:This week we will six red wines from Lamadrid Wines from Argentina. We will try two malbecs\, two Cabernet Sauvignons\, a Cabernet Franc and a Bonarda. These are great expressions of what Argentina can produce. Chef John will be at the helm in the kitchen.
URL:https://www.watertowerfinewines.com/event/lamadrid-wines/
LOCATION:Water Tower Fine Wines\, 6136 Campus Ln\, Cincinnati\, OH\, 45230\, United States
ORGANIZER;CN="David and Jan Lazarus":MAILTO:wtfinewines@gmail.com
END:VEVENT
BEGIN:VEVENT
DTSTART;TZID=America/Kentucky/Louisville:20200229T160000
DTEND;TZID=America/Kentucky/Louisville:20200229T190000
DTSTAMP:20260424T110229
CREATED:20200118T054520Z
LAST-MODIFIED:20200222T113526Z
UID:1831-1582992000-1583002800@www.watertowerfinewines.com
SUMMARY:Saturday Tasting
DESCRIPTION:Join us this Saturday and expand your horizons.  Stop in for a personal tasting any time between noon and 6. \n  \n10.00 for several tastes. Call for more details!
URL:https://www.watertowerfinewines.com/event/saturday-tasting-2/
LOCATION:Water Tower Fine Wines\, 6136 Campus Ln\, Cincinnati\, OH\, 45230\, United States
ORGANIZER;CN="David and Jan Lazarus":MAILTO:wtfinewines@gmail.com
END:VEVENT
BEGIN:VEVENT
DTSTART;TZID=America/Kentucky/Louisville:20200228T173000
DTEND;TZID=America/Kentucky/Louisville:20200228T203000
DTSTAMP:20260424T110229
CREATED:20200118T020552Z
LAST-MODIFIED:20200222T113512Z
UID:1782-1582911000-1582921800@www.watertowerfinewines.com
SUMMARY:Cru Beaujolais / Gamay
DESCRIPTION:We will return to a newer theme for us and taste six wines based on the Gamay grape. There will be Beaujolais Village and Cru Beaujolais wines. Last time they went over well\, this time we will have a new selection\, so join us and check out these easy drinking wines that are very food friend and a great gateway wine for newbies. Chef TBD will have a nice selection of hearty appetizers to compliment the wines.
URL:https://www.watertowerfinewines.com/event/cru-beaujolais-gamay/
LOCATION:Water Tower Fine Wines\, 6136 Campus Ln\, Cincinnati\, OH\, 45230\, United States
ORGANIZER;CN="David and Jan Lazarus":MAILTO:wtfinewines@gmail.com
END:VEVENT
BEGIN:VEVENT
DTSTART;TZID=America/Kentucky/Louisville:20200222T120000
DTEND;TZID=America/Kentucky/Louisville:20200222T160000
DTSTAMP:20260424T110229
CREATED:20200118T020208Z
LAST-MODIFIED:20200222T112957Z
UID:1779-1582372800-1582387200@www.watertowerfinewines.com
SUMMARY:Sake Saturday & Pan Asian Tasting
DESCRIPTION:This Saturday\, we introduce another Guest Chef Vivian Chen\, who has a pop up restaurant called Little Pang in Walnut Hills. She will be preparing a selection of Pan Asian goodies to compliment this month’s Sake Saturday. We will taste three Sake wines with the apps.
URL:https://www.watertowerfinewines.com/event/sake-saturday-pan-asian-tasting/
LOCATION:Water Tower Fine Wines\, 6136 Campus Ln\, Cincinnati\, OH\, 45230\, United States
ORGANIZER;CN="David and Jan Lazarus":MAILTO:wtfinewines@gmail.com
END:VEVENT
BEGIN:VEVENT
DTSTART;TZID=America/Kentucky/Louisville:20200221T173000
DTEND;TZID=America/Kentucky/Louisville:20200221T203000
DTSTAMP:20260424T110229
CREATED:20200214T210624Z
LAST-MODIFIED:20200214T210624Z
UID:1916-1582306200-1582317000@www.watertowerfinewines.com
SUMMARY:Wines from Spain
DESCRIPTION:Spain is our go to for value. We will taste a flight of six Spanish reds that will be great to enjoy through the winter\, both with the hearty dishes of the cold weather and just to sip on a Tuesday night. Chef TBD will produce a complimentary spread of goodies to enjoy with wines. Join us as we chase away the winter doldrums!
URL:https://www.watertowerfinewines.com/event/wines-from-spain-2/
LOCATION:Water Tower Fine Wines\, 6136 Campus Ln\, Cincinnati\, OH\, 45230\, United States
ATTACH;FMTTYPE=image/jpeg:https://www.watertowerfinewines.com/wp-content/uploads/2020/01/WTFW-100e.jpg
ORGANIZER;CN="David and Jan Lazarus":MAILTO:wtfinewines@gmail.com
END:VEVENT
BEGIN:VEVENT
DTSTART;TZID=America/Kentucky/Louisville:20200220T160000
DTEND;TZID=America/Kentucky/Louisville:20200220T190000
DTSTAMP:20260424T110229
CREATED:20200214T211520Z
LAST-MODIFIED:20200214T211549Z
UID:1922-1582214400-1582225200@www.watertowerfinewines.com
SUMMARY:Happy Hour
DESCRIPTION:Looking for a great happy hour? Stop in to Water Tower Fine Wines every day and enjoy our happy hour! We house two WineStation machines with thermo-electric cooling and temperature control systems. Stop in to try new and exciting wines by the glass. Our happy hour runs daily from 4 – 7 pm with all WineStation pours half price. Enjoy a glass or create your own wine flight.
URL:https://www.watertowerfinewines.com/event/happy-hour-4/
LOCATION:Water Tower Fine Wines\, 6136 Campus Ln\, Cincinnati\, OH\, 45230\, United States
ATTACH;FMTTYPE=image/jpeg:https://www.watertowerfinewines.com/wp-content/uploads/2020/02/WTFW-Outdoor-seating1.jpg
ORGANIZER;CN="David and Jan Lazarus":MAILTO:wtfinewines@gmail.com
END:VEVENT
BEGIN:VEVENT
DTSTART;TZID=America/Kentucky/Louisville:20200215T120000
DTEND;TZID=America/Kentucky/Louisville:20200215T180000
DTSTAMP:20260424T110229
CREATED:20200118T054137Z
LAST-MODIFIED:20200118T054137Z
UID:1828-1581768000-1581789600@www.watertowerfinewines.com
SUMMARY:A Saturday Well-Spent
DESCRIPTION:Expand your horizons and join us for a personal tasting any time between noon and 6. \n  \n10.00 for several tastes. Call for more details!
URL:https://www.watertowerfinewines.com/event/a-saturday-well-spent-2-15-20/
LOCATION:Water Tower Fine Wines\, 6136 Campus Ln\, Cincinnati\, OH\, 45230\, United States
ATTACH;FMTTYPE=image/jpeg:https://www.watertowerfinewines.com/wp-content/uploads/2019/10/sparkling-wtfw.jpg
ORGANIZER;CN="David and Jan Lazarus":MAILTO:wtfinewines@gmail.com
END:VEVENT
BEGIN:VEVENT
DTSTART;TZID=America/Kentucky/Louisville:20200214T173000
DTEND;TZID=America/Kentucky/Louisville:20200214T203000
DTSTAMP:20260424T110229
CREATED:20200118T015219Z
LAST-MODIFIED:20200118T015219Z
UID:1770-1581701400-1581712200@www.watertowerfinewines.com
SUMMARY:Special Valentines Tasting
DESCRIPTION:We have something special planned for this week\, since Friday is in fact Valentines Day! We will taste two each of Sparkling Wine\, Roses’ and Dessert Wines. We will also have at least a couple of special red wines in the Wine Station for those that are not feeling romantic the same way that we are. Not sure who will be Chef this night\, but I can assure you that Chef Jan will have some great sweets and there will be Chocolate in some form. Start your celebration with your friends at Water Tower Fine Wines.  Please do not consider this as exclusionary\, not everyone is or wants to be part of a couple\, we will be happy to see you regardless
URL:https://www.watertowerfinewines.com/event/special-valentines-tasting/
LOCATION:Water Tower Fine Wines\, 6136 Campus Ln\, Cincinnati\, OH\, 45230\, United States
ATTACH;FMTTYPE=image/jpeg:https://www.watertowerfinewines.com/wp-content/uploads/2020/01/WTFW-112e.jpg
ORGANIZER;CN="David and Jan Lazarus":MAILTO:wtfinewines@gmail.com
END:VEVENT
BEGIN:VEVENT
DTSTART;TZID=America/Kentucky/Louisville:20200208T120000
DTEND;TZID=America/Kentucky/Louisville:20200208T180000
DTSTAMP:20260424T110229
CREATED:20200118T015608Z
LAST-MODIFIED:20200118T015608Z
UID:1773-1581163200-1581184800@www.watertowerfinewines.com
SUMMARY:A Saturday Well-Spent
DESCRIPTION:Expand your horizons and join us for a personal tasting any time between noon and 6. \n  \n10.00 for several tastes. Call for more details!
URL:https://www.watertowerfinewines.com/event/a-saturday-well-spent-2-8-20/
LOCATION:Water Tower Fine Wines\, 6136 Campus Ln\, Cincinnati\, OH\, 45230\, United States
ATTACH;FMTTYPE=image/jpeg:https://www.watertowerfinewines.com/wp-content/uploads/2020/01/WTFW-86e.jpg
ORGANIZER;CN="David and Jan Lazarus":MAILTO:wtfinewines@gmail.com
END:VEVENT
BEGIN:VEVENT
DTSTART;TZID=America/Kentucky/Louisville:20200207T173000
DTEND;TZID=America/Kentucky/Louisville:20200207T203000
DTSTAMP:20260424T110229
CREATED:20200118T014705Z
LAST-MODIFIED:20200118T014705Z
UID:1768-1581096600-1581107400@www.watertowerfinewines.com
SUMMARY:Pinot Noir; Reprise of a Favorite
DESCRIPTION:Pinot Noir is one of our most popular tastings and it has been several month since we last offered this varietal. We will taste some old favorites as well as some new finds. Chef TBD will have  a great selection of hearty appetizers to compliment the wines. Join us us and enjoy an evening with your friends at Water Tower Fine Wines.
URL:https://www.watertowerfinewines.com/event/pinot-noir-reprise-of-a-favorite/
LOCATION:Water Tower Fine Wines\, 6136 Campus Ln\, Cincinnati\, OH\, 45230\, United States
ATTACH;FMTTYPE=image/jpeg:https://www.watertowerfinewines.com/wp-content/uploads/2019/12/Reds-Friday-Tasting.jpg
ORGANIZER;CN="David and Jan Lazarus":MAILTO:wtfinewines@gmail.com
END:VEVENT
BEGIN:VEVENT
DTSTART;TZID=America/Kentucky/Louisville:20200201T120000
DTEND;TZID=America/Kentucky/Louisville:20200201T180000
DTSTAMP:20260424T110229
CREATED:20200115T091007Z
LAST-MODIFIED:20200118T034122Z
UID:1763-1580558400-1580580000@www.watertowerfinewines.com
SUMMARY:A Saturday Well-Spent
DESCRIPTION:Expand your horizons and join us for a personal tasting any time between noon and 6. \n  \n10.00 for several tastes. Call for more details!
URL:https://www.watertowerfinewines.com/event/a-saturday-well-spent/
LOCATION:Water Tower Fine Wines\, 6136 Campus Ln\, Cincinnati\, OH\, 45230\, United States
ATTACH;FMTTYPE=image/jpeg:https://www.watertowerfinewines.com/wp-content/uploads/2020/01/Saturday-tastings-wtfw.jpg
ORGANIZER;CN="David and Jan Lazarus":MAILTO:wtfinewines@gmail.com
END:VEVENT
BEGIN:VEVENT
DTSTART;TZID=America/Kentucky/Louisville:20200131T173000
DTEND;TZID=America/Kentucky/Louisville:20200131T203000
DTSTAMP:20260424T110229
CREATED:20191231T001311Z
LAST-MODIFIED:20191231T001311Z
UID:1712-1580491800-1580502600@www.watertowerfinewines.com
SUMMARY:Organic & Bio Dynamic Wines
DESCRIPTION:This week we will taste wines that are either Organic or Bio Dynamic wines and you can judge whether the designation makes a difference. These will be all red wines and a variety of different varietals. Chef Jan will serve up another assortment of hearty appetizers.
URL:https://www.watertowerfinewines.com/event/organic-bio-dynamic-wines/
LOCATION:Water Tower Fine Wines\, 6136 Campus Ln\, Cincinnati\, OH\, 45230\, United States
ATTACH;FMTTYPE=image/jpeg:https://www.watertowerfinewines.com/wp-content/uploads/2019/12/WTFW-99w.jpg
ORGANIZER;CN="David and Jan Lazarus":MAILTO:wtfinewines@gmail.com
END:VEVENT
BEGIN:VEVENT
DTSTART;TZID=America/Kentucky/Louisville:20200130T160000
DTEND;TZID=America/Kentucky/Louisville:20200130T190000
DTSTAMP:20260424T110229
CREATED:20200118T053648Z
LAST-MODIFIED:20200118T053732Z
UID:1824-1580400000-1580410800@www.watertowerfinewines.com
SUMMARY:Happy Hour
DESCRIPTION:Every day at Water Tower Fine Wines\, enjoy our happy hour! Check out our two WineStation machines on site with thermo-electric cooling and temperature control systems. Try new and exciting wines by the glass. Our happy hour runs daily from 4 – 7 pm with all WineStation pours half price. Enjoy a glass or create your own wine flight.
URL:https://www.watertowerfinewines.com/event/happy-hour-2-30-20/
LOCATION:Water Tower Fine Wines\, 6136 Campus Ln\, Cincinnati\, OH\, 45230\, United States
ATTACH;FMTTYPE=image/jpeg:https://www.watertowerfinewines.com/wp-content/uploads/2020/01/Happy-hour-5.jpg
ORGANIZER;CN="David and Jan Lazarus":MAILTO:wtfinewines@gmail.com
END:VEVENT
BEGIN:VEVENT
DTSTART;TZID=America/Kentucky/Louisville:20200129T160000
DTEND;TZID=America/Kentucky/Louisville:20200129T190000
DTSTAMP:20260424T110229
CREATED:20200118T051833Z
LAST-MODIFIED:20200118T051938Z
UID:1821-1580313600-1580324400@www.watertowerfinewines.com
SUMMARY:Happy Hour
DESCRIPTION:Every day at Water Tower Fine Wines\, enjoy our happy hour! We house two WineStation machines with thermo-electric cooling and temperature control systems. Stop in to try new and exciting wines by the glass. Our happy hour runs daily from 4 – 7 pm with all WineStation pours half price. Enjoy a glass or create your own wine flight.
URL:https://www.watertowerfinewines.com/event/happy-hour-2-29-20/
LOCATION:Water Tower Fine Wines\, 6136 Campus Ln\, Cincinnati\, OH\, 45230\, United States
ATTACH;FMTTYPE=image/jpeg:https://www.watertowerfinewines.com/wp-content/uploads/2020/01/Happy-hour-wtfw-4.jpg
ORGANIZER;CN="David and Jan Lazarus":MAILTO:wtfinewines@gmail.com
END:VEVENT
BEGIN:VEVENT
DTSTART;TZID=America/Kentucky/Louisville:20200128T160000
DTEND;TZID=America/Kentucky/Louisville:20200128T190000
DTSTAMP:20260424T110229
CREATED:20200118T051357Z
LAST-MODIFIED:20200118T051509Z
UID:1815-1580227200-1580238000@www.watertowerfinewines.com
SUMMARY:Happy Hour
DESCRIPTION:Every day at Water Tower Fine Wines\, enjoy our happy hour! We house two WineStation machines with thermo-electric cooling and temperature control systems. Stop in to try new and exciting wines by the glass. Our happy hour runs daily from 4 – 7 pm with all WineStation pours half price. Enjoy a glass or create your own wine flight.
URL:https://www.watertowerfinewines.com/event/happy-hour-2-28-20/
LOCATION:Water Tower Fine Wines\, 6136 Campus Ln\, Cincinnati\, OH\, 45230\, United States
ATTACH;FMTTYPE=image/jpeg:https://www.watertowerfinewines.com/wp-content/uploads/2020/01/Happy-Hours-tastings-3.jpg
ORGANIZER;CN="David and Jan Lazarus":MAILTO:wtfinewines@gmail.com
END:VEVENT
BEGIN:VEVENT
DTSTART;TZID=America/Kentucky/Louisville:20200125T123000
DTEND;TZID=America/Kentucky/Louisville:20200125T160000
DTSTAMP:20260424T110229
CREATED:20191231T000851Z
LAST-MODIFIED:20200104T234728Z
UID:1710-1579955400-1579968000@www.watertowerfinewines.com
SUMMARY:Release & Tasting Water Tower Fine Wines North Coast Merlot
DESCRIPTION:Release and tasting of Water Tower Fine Wines North Coast Merlot\, made in collaboration with Chip Emmerich Owner / Winemaker Burnet Ridge Wines. This wine is exclusively available at Water Tower Fine Wines. This is a rich full bodied Merlot with great balance and acidity. Join us and meet Chip as he discusses his theories on wine making. $5.00 per person.
URL:https://www.watertowerfinewines.com/event/release-tasting-water-tower-fine-wines-north-coast-merlot/
LOCATION:Water Tower Fine Wines\, 6136 Campus Ln\, Cincinnati\, OH\, 45230\, United States
ATTACH;FMTTYPE=image/jpeg:https://www.watertowerfinewines.com/wp-content/uploads/2016/06/Off-Beat-Itailan.jpg
ORGANIZER;CN="David and Jan Lazarus":MAILTO:wtfinewines@gmail.com
END:VEVENT
BEGIN:VEVENT
DTSTART;TZID=America/Kentucky/Louisville:20200124T173000
DTEND;TZID=America/Kentucky/Louisville:20200124T203000
DTSTAMP:20260424T110229
CREATED:20191230T232942Z
LAST-MODIFIED:20191230T232942Z
UID:1708-1579887000-1579897800@www.watertowerfinewines.com
SUMMARY:Shannon Ridge Wines
DESCRIPTION:This week we will offer six wines from Shannon Ridge Wines\, we will taste both red and white wines. These are great wines at reasonable prices and offer a nice variety of different styles of wine and if you could not find a favorite among the Ravenswood wines perhaps there will be one this week. Chef Jan\, will of course come up with another great selection of appetizers to compliment the wines.
URL:https://www.watertowerfinewines.com/event/shannon-ridge-wines/
LOCATION:Water Tower Fine Wines\, 6136 Campus Ln\, Cincinnati\, OH\, 45230\, United States
ATTACH;FMTTYPE=image/jpeg:https://www.watertowerfinewines.com/wp-content/uploads/2019/10/WTFW-Indoor-seating.jpg
ORGANIZER;CN="David and Jan Lazarus":MAILTO:wtfinewines@gmail.com
END:VEVENT
BEGIN:VEVENT
DTSTART;TZID=America/Kentucky/Louisville:20200123T160000
DTEND;TZID=America/Kentucky/Louisville:20200123T190000
DTSTAMP:20260424T110229
CREATED:20200118T051021Z
LAST-MODIFIED:20200118T051021Z
UID:1812-1579795200-1579806000@www.watertowerfinewines.com
SUMMARY:Happy Hour
DESCRIPTION:We house two WineStation machines with thermo-electric cooling and temperature control systems. Stop in to try new and exciting wines by the glass. Our happy hour runs daily from 4 – 7 pm with all WineStation pours half price. Enjoy a glass or create your own wine flight.
URL:https://www.watertowerfinewines.com/event/2-23-20/
LOCATION:Water Tower Fine Wines\, 6136 Campus Ln\, Cincinnati\, OH\, 45230\, United States
ATTACH;FMTTYPE=image/jpeg:https://www.watertowerfinewines.com/wp-content/uploads/2020/01/happy-hour-tastings-2.jpg
ORGANIZER;CN="David and Jan Lazarus":MAILTO:wtfinewines@gmail.com
END:VEVENT
BEGIN:VEVENT
DTSTART;TZID=America/Kentucky/Louisville:20200122T160000
DTEND;TZID=America/Kentucky/Louisville:20200122T190000
DTSTAMP:20260424T110229
CREATED:20200118T035834Z
LAST-MODIFIED:20200118T035834Z
UID:1809-1579708800-1579719600@www.watertowerfinewines.com
SUMMARY:Happy Hour
DESCRIPTION:We house two WineStation machines with thermo-electric cooling and temperature control systems. Stop in to try new and exciting wines by the glass. Our happy hour runs daily from 4 – 7 pm with all WineStation pours half price. Enjoy a glass or create your own wine flight.
URL:https://www.watertowerfinewines.com/event/happy-hour-1-22-20/
LOCATION:Water Tower Fine Wines\, 6136 Campus Ln\, Cincinnati\, OH\, 45230\, United States
ATTACH;FMTTYPE=image/jpeg:https://www.watertowerfinewines.com/wp-content/uploads/2020/01/daily-tastings-wtfw_2.jpg
ORGANIZER;CN="David and Jan Lazarus":MAILTO:wtfinewines@gmail.com
END:VEVENT
BEGIN:VEVENT
DTSTART;TZID=America/Kentucky/Louisville:20200121T160000
DTEND;TZID=America/Kentucky/Louisville:20200121T190000
DTSTAMP:20260424T110229
CREATED:20200118T035256Z
LAST-MODIFIED:20200118T035256Z
UID:1794-1579622400-1579633200@www.watertowerfinewines.com
SUMMARY:Happy Hour
DESCRIPTION:We house two WineStation machines with thermo-electric cooling and temperature control systems. Stop in to try new and exciting wines by the glass. Our happy hour runs daily from 4 – 7 pm with all WineStation pours half price. Enjoy a glass or create your own wine flight.
URL:https://www.watertowerfinewines.com/event/happy-hour/
LOCATION:Water Tower Fine Wines\, 6136 Campus Ln\, Cincinnati\, OH\, 45230\, United States
ATTACH;FMTTYPE=image/jpeg:https://www.watertowerfinewines.com/wp-content/uploads/2020/01/daily-tastings-wtfw.jpg
ORGANIZER;CN="David and Jan Lazarus":MAILTO:wtfinewines@gmail.com
END:VEVENT
END:VCALENDAR